Workbook

Sheet 入力ﾌｫｰﾑ
B2: 技能経験について | G2: =IF(SUM(C3:D5)>0,1,0) -> 0 | H2: コースが未選択なら0
B3: ほとんどない | E3: =IF(G2=0,G9,IF(G3=1,G10,IF(G5=1,G11,G8))) -> 該当する項目に「１」を入力してください。 | F3: ※複数人数で複数の技能経験の選択は出来ません。 | G3: =IF(COUNTIF(C3:D5,"<>")<2,0,1) -> 0 | H3: 複数のコースが選択されたら1
B4: 多少ある
B5: 有資格者又は 他業種にて経験有 | G5: =IF(COUNTIF(C3:D5,1)>0,0,1) -> 1 | H5: 1以外の数字が入力された
G6: =IF((G3+G5)=0,0,1) -> 1 | H6: つまりエラーだと1
B7: 氏名 | G7: =C3*1+C4*2+C5*3 -> 0 | H7: 選択したコース
B8: ﾌﾘｶﾞﾅ | G8: =INDEX(B3:B5,G7,1) -> #VALUE! | H8: 選んだコースを表示
B9: 姓 | G9: 該当する項目に「１」を入力してください。
B10: ﾌﾘｶﾞﾅ | G10: 複数の選択はできません。
B11: 名 | G11: 複数人で同じ経験ないようでも、ここには「１」を入力してください。
B13: 生年月日 | G13: 昭和→S 平成→Hを入力してください
B14: 年号 | D14: =IF(C14="s","昭和",IF(C14="h","平成",G13)) -> 昭和→S 平成→Hを入力してください | G14: =IF(C14="s","昭和",IF(C14="h","平成",0)) -> 0 | H14: 年号の表示、未入力なら0
B15: 年 | E15: 生年月日が表示されます。 | G15: =IF(G14=0,"年号",IF(C15="","年",IF(C16="","月",IF(C17="","日",0)))) -> 年号
B16: 月 | E16: =IF(G15=0,G17,G16) -> 年号を入力してください | G16: =G15&"を入力してください" -> 年号を入力してください
B17: 日 | G17: =G14&C15&"年"&C16&"月"&C17&"日" -> 0年月日
B19: 受講票等送付先
B20: 送付先（会社か個人） | E20: 会社→１を入力 個人→２を入力
B21: 送付先郵便番号 | E21: ハイフン（-）を入れて入力してください.
B22: 送付先住所
B23: 送付先宛名(会社名等) | F23: ※送付先宛名は、領収書宛名となります。
B24: 上記 電話番号 | F24: ※日中連絡の取れる電話番号を入力してください。
B25: 連絡担当者氏名
B27: 受講料 | D27: 名 | E27: =IF(G6=1,"技能経験についてを選択してください",IF(C27="","",C27*26400)) -> 技能経験についてを選択してください | F27: ２名以上の申し込みで、まとめて決済を行う場合は、
F28: 代表の方のみ「合計数」を入力してください。
B30: ※すべての入力が終わりましたら、印刷フォームのシートでご確認ください。

Sheet 印刷ﾌｫｰﾑ
B1: 3-5 | O1: (この用紙は必要に応じてコピーして使用してください)
E2: (一社)北海道ＬＰガス協会 | AD2: (一社)北海道ＬＰガス協会
E3: 設備士配管技能向上講習 受講申込書 | AD3: 設備士配管技能向上講習 受講票
C6: 技能経験 | G6: =IF(入力ﾌｫｰﾑ!G6=1,"技能経験を選択してください",入力ﾌｫｰﾑ!G8) -> 技能経験を選択してください | AB6: ※受講番号
C8: フリガナ | I8: =IF(入力ﾌｫｰﾑ!C8="","？？？",入力ﾌｫｰﾑ!C8&" "&入力ﾌｫｰﾑ!C10) -> ？？？ | AB8: フリガナ | AI8: =IF(I8="","",I8) -> ？？？
C9: 氏 名 | I9: =IF(入力ﾌｫｰﾑ!C9="","？？？",入力ﾌｫｰﾑ!C9&" "&入力ﾌｫｰﾑ!C11) -> ？？？ | AB9: 氏 名 | AH9: =IF(I9="","",I9) -> ？？？
C13: 生年月日 | G13: =IF(入力ﾌｫｰﾑ!C14="s","昭和",IF(入力ﾌｫｰﾑ!C14="h","平成","年号？")) -> 年号？ | M13: =IF(入力ﾌｫｰﾑ!C15="","？",入力ﾌｫｰﾑ!C15) -> ？ | O13: 年 | Q13: =IF(入力ﾌｫｰﾑ!C16="","？",入力ﾌｫｰﾑ!C16) -> ？ | S13: 月 | U13: =IF(入力ﾌｫｰﾑ!C17="","？",入力ﾌｫｰﾑ!C17) -> ？ | W13: 日 | AB13: 生年月日 | AF13: =IF(G13="","",G13) -> 年号？ | AL13: =IF(M13="","",M13) -> ？ | AN13: 年 | AP13: =IF(Q13="","",Q13) -> ？ | AR13: 月 | AT13: =IF(U13="","",U13) -> ？ | AV13: 日
C15: 受講票等 送付先宛名 及 び 住 所 ◎受付名簿に も使用しま す。必ずご 記入くださ い。 | G15: 〒 | I15: =IF(入力ﾌｫｰﾑ!C21=""," -",入力ﾌｫｰﾑ!C21) -> - | P15: =IF(入力ﾌｫｰﾑ!C20=1,"( 会社 )",IF(入力ﾌｫｰﾑ!C20=2,"( 個人 )","送付先？？？")) -> 送付先？？？
G17: =IF(入力ﾌｫｰﾑ!C22=""," 住所？？？",入力ﾌｫｰﾑ!C22) -> 住所？？？
Z20: （切り離さないで提出すること）
G21: =IF(入力ﾌｫｰﾑ!C23="",IF(入力ﾌｫｰﾑ!C20=1," 会社名？？？",""),入力ﾌｫｰﾑ!C23) | AQ21: ※出席確認欄
G23: ※会社の場合は、会社名も必ず記入してください。
G24: 電話番号 | J24: =IF(入力ﾌｫｰﾑ!C24="","???-???-????",入力ﾌｫｰﾑ!C24) -> ???-???-???? | P24: （担当： | S24: =IF(入力ﾌｫｰﾑ!C25="","",入力ﾌｫｰﾑ!C25) | Y24: ）
D27: 〔記入上の注意事項〕
D28: １. | E28: 楷書で記入してください。
D29: ２. | E29: ◯印欄は、希望するコース等を記入してください。
D30: ３. | E30: ※印の欄には記入しないでください。
D31: ４. | E31: 送付先名･住所及び内訳は、必ず記入してください。
K33: 項 目 | P33: 数 | S33: 金 額
AC34: 〔注意事項〕
K35: 受 講 料 | P35: =IF(入力ﾌｫｰﾑ!C27="","",入力ﾌｫｰﾑ!C27) | S35: =入力ﾌｫｰﾑ!E27 -> 技能経験についてを選択してください | AC35: １. | AD35: この受講票を講習当日受付に提示し、出席確認欄に確認を受けてください。
C42: ※受講番号
